BEGIN:VCALENDAR
VERSION:2.0
PRODID:-//ChamberMaster//Event Calendar 2.0//EN
METHOD:PUBLISH
X-PUBLISHED-TTL:P3D
REFRESH-INTERVAL:P3D
CALSCALE:GREGORIAN
BEGIN:VEVENT
DTSTART:20100522T010000Z
DTEND:20100522T030000Z
X-MICROSOFT-CDO-ALLDAYEVENT:FALSE
SUMMARY:Married & Loving It!!!
DESCRIPTION:Married & Loving It Marriage Enhancement Classes The Tooele County Healthy Marriage Coalition is sponsoring these fun\, hands-on classes for couples. The series of classes will be held on Fridays and will run April 23\, 30\, May 7\, 14\, 21. All classes are from 7 - 9 p.m.  at 151 N. Main (Health/Extension Building). Free on-site babysitting will be provided. The cost is $20\, but is free to those who are income eligible. WIC guidelines are used to determine eligibility. Each couple who attends all 5 classes will receive a $30 grocery gift card! Couples will receive activity books and other materials. Please register to Utah State University Extension by Wednesday\, April 21 to 435-277-2400. When registering\, please indicate if babysitting services will be required. Questions? Call Darlene at 435-277-2406.
X-ALT-DESC;FMTTYPE=text/html:<div><p class="MsoNormal" style="margin: 0in 0in 0pt"><b><i><span style="font-family: &quot\;Times New Roman&quot\;\,&quot\;serif&quot\;\; color: red\; font-size: 22pt">Married &amp\; Loving It Marriage Enhancement Classes<o:p></o:p></span></i></b></p><p class="MsoNormal" style="margin: 0in 0in 0pt"><b><i><span style="font-family: &quot\;Times New Roman&quot\;\,&quot\;serif&quot\;\; font-size: 12pt"><o:p>&nbsp\;</o:p></span></i></b></p><p class="MsoNormal" style="margin: 0in 0in 0pt"><span style="font-family: &quot\;Times New Roman&quot\;\,&quot\;serif&quot\;\; font-size: 12pt">The&nbsp\;Tooele County Healthy Marriage Coalition is sponsoring these fun\, hands-on classes for couples. The series of classes will be held on Fridays and will run </span><b><span style="font-family: &quot\;Times New Roman&quot\;\,&quot\;serif&quot\;\; color: red\; font-size: 18pt">April 23\, 30\, May 7\, 14\, 21.</span></b><span style="font-family: &quot\;Times New Roman&quot\;\,&quot\;serif&quot\;\; font-size: 12pt"> All classes are from 7 - 9 p.m. &nbsp\;at 151 N. Main (Health/Extension Building). <span style="color: #1f497d"><o:p></o:p></span></span></p><p class="MsoNormal" style="margin: 0in 0in 0pt"><b><span style="font-family: &quot\;Times New Roman&quot\;\,&quot\;serif&quot\;\; color: red\; font-size: 16pt">Free on-site babysitting will be provided.</span></b><span style="font-family: &quot\;Times New Roman&quot\;\,&quot\;serif&quot\;\; color: red\; font-size: 16pt"> </span><span style="font-family: &quot\;Times New Roman&quot\;\,&quot\;serif&quot\;\; font-size: 12pt">The cost is $20\, but is free to those who are income eligible. WIC guidelines are used to determine eligibility. </span><u><span style="font-family: &quot\;Times New Roman&quot\;\,&quot\;serif&quot\;\; color: red\; font-size: 20pt">Each couple who attends all 5 classes will receive a $30 grocery gift card! </span></u><span style="font-family: &quot\;Times New Roman&quot\;\,&quot\;serif&quot\;\; font-size: 12pt">Couples will receive activity books and other materials. Please register to Utah State University Extension by Wednesday\, April 21 to 435-277-2400. When registering\, please indicate if babysitting services will be required. Questions? Call Darlene at 435-277-2406. <o:p></o:p></span></p></div>
LOCATION:
UID:e.125.3150
SEQUENCE:3
DTSTAMP:20260423T062317Z
URL:https://business.tooelechamber.com/events/details/married-loving-it-05-21-2010-3150
END:VEVENT

END:VCALENDAR
