BEGIN:VCALENDAR
VERSION:2.0
PRODID:-//ChamberMaster//Event Calendar 2.0//EN
METHOD:PUBLISH
X-PUBLISHED-TTL:P3D
REFRESH-INTERVAL:P3D
CALSCALE:GREGORIAN
BEGIN:VEVENT
DTSTART:20080416T210000Z
DTEND:20080416T210000Z
X-MICROSOFT-CDO-ALLDAYEVENT:FALSE
SUMMARY:Mary Poppins @ Tooele City Libabry
DESCRIPTION:Mary Poppins will be playing at the Tooele City Libraryon April 16th at 3 pm
X-ALT-DESC;FMTTYPE=text/html:<div>Mary Poppins will be playing at the Tooele City Library</div><div>on April 16th at 3 pm</div>
LOCATION:Tooele City Library128 W. Vine St.\, Tooele
UID:e.125.382
SEQUENCE:3
DTSTAMP:20260424T221130Z
URL:https://business.tooelechamber.com/events/details/mary-poppins-tooele-city-libabry-04-16-2008-382
END:VEVENT

END:VCALENDAR
