BEGIN:VCALENDAR
VERSION:2.0
PRODID:-//ChamberMaster//Event Calendar 2.0//EN
METHOD:PUBLISH
X-PUBLISHED-TTL:P3D
REFRESH-INTERVAL:P3D
CALSCALE:GREGORIAN
BEGIN:VEVENT
DTSTART:20090911T010000Z
DTEND:20090911T030000Z
X-MICROSOFT-CDO-ALLDAYEVENT:FALSE
SUMMARY:Meet The Candidates Night
DESCRIPTION:Thursday\, September 10th7 pmTooele City Hall90 North Main\, Tooele435-882-0690
X-ALT-DESC;FMTTYPE=text/html:<div style="text-align: center"><span style="font-size: large">Thursday\, September 10th</span></div><div style="text-align: center"><span style="font-size: large">7 pm</span></div><div style="text-align: center"><span style="font-size: large">Tooele City Hall</span></div><div style="text-align: center"><span style="font-size: large">90 North Main\, Tooele</span></div><div style="text-align: center"><span style="font-size: large">435-882-0690</span></div>
LOCATION:
UID:e.125.2549
SEQUENCE:3
DTSTAMP:20260423T183753Z
URL:https://business.tooelechamber.com/events/details/meet-the-candidates-night-09-10-2009-2549
END:VEVENT

END:VCALENDAR
