BEGIN:VCALENDAR
VERSION:2.0
PRODID:-//ChamberMaster//Event Calendar 2.0//EN
METHOD:PUBLISH
X-PUBLISHED-TTL:P3D
REFRESH-INTERVAL:P3D
CALSCALE:GREGORIAN
BEGIN:VEVENT
DTSTART;VALUE=DATE:20131225
DTEND;VALUE=DATE:20131227
TRANSP:TRANSPARENT
X-MICROSOFT-CDO-ALLDAYEVENT:TRUE
SUMMARY:Merry Christmas - office closed
DESCRIPTION:
X-ALT-DESC;FMTTYPE=text/html:
LOCATION:
UID:e.125.5715
SEQUENCE:3
DTSTAMP:20260420T060020Z
URL:https://business.tooelechamber.com/events/details/merry-christmas-office-closed-12-25-2013-5715
END:VEVENT

END:VCALENDAR
