BEGIN:VCALENDAR
VERSION:2.0
PRODID:-//ChamberMaster//Event Calendar 2.0//EN
METHOD:PUBLISH
X-PUBLISHED-TTL:P3D
REFRESH-INTERVAL:P3D
CALSCALE:GREGORIAN
BEGIN:VEVENT
DTSTART;VALUE=DATE:20080502
DTEND;VALUE=DATE:20080505
TRANSP:TRANSPARENT
X-MICROSOFT-CDO-ALLDAYEVENT:TRUE
SUMMARY:Miller Motorsports Park Schedule
DESCRIPTION:Miller Park Racing Association Round 2Honda Presents the Plaza Cycle Masters of the Mountains 2Plaza Cycle Utah Supermoto Championship Round 3Icebreaker Kart Championship Round 4
X-ALT-DESC;FMTTYPE=text/html:<div>Miller Park Racing Association Round 2</div><div>Honda Presents the Plaza Cycle Masters of the Mountains 2</div><div>Plaza Cycle Utah Supermoto Championship Round 3</div><div>Icebreaker Kart Championship Round 4</div>
LOCATION:Miller Motorsports Park2901 No. Sheep LaneTooele
UID:e.125.256
SEQUENCE:3
DTSTAMP:20260424T203722Z
URL:https://business.tooelechamber.com/events/details/miller-motorsports-park-schedule-05-02-2008-256
END:VEVENT

END:VCALENDAR
