BEGIN:VCALENDAR
VERSION:2.0
PRODID:-//ChamberMaster//Event Calendar 2.0//EN
METHOD:PUBLISH
X-PUBLISHED-TTL:P3D
REFRESH-INTERVAL:P3D
CALSCALE:GREGORIAN
BEGIN:VEVENT
DTSTART;VALUE=DATE:20100731
DTEND;VALUE=DATE:20100801
TRANSP:TRANSPARENT
X-MICROSOFT-CDO-ALLDAYEVENT:TRUE
SUMMARY:Miss Tooele County Scholarship Pageant.
DESCRIPTION:Miss Tooele County Scholarship Pageant.Deseret Peak ComplexContact: 435-843-3150www.deseretpeakcomplex.com
X-ALT-DESC;FMTTYPE=text/html:<div><font face="Frutiger-LightCn" size="1"><font face="Frutiger-LightCn" size="1"><p align="center"><font size="4">Miss Tooele County Scholarship Pageant.</font></p><p align="center"><font size="4">Deseret Peak Complex</font></p><p align="center"><font size="4">Contact: 435-843-3150</font></p><p align="center"><font size="4">www.deseretpeakcomplex.com</font></p></font></font></div>
LOCATION:
UID:e.125.1011
SEQUENCE:3
DTSTAMP:20260423T032740Z
URL:https://business.tooelechamber.com/events/details/miss-tooele-county-scholarship-pageant-07-31-2010-1011
END:VEVENT

END:VCALENDAR
