BEGIN:VCALENDAR
VERSION:2.0
PRODID:-//ChamberMaster//Event Calendar 2.0//EN
METHOD:PUBLISH
X-PUBLISHED-TTL:P3D
REFRESH-INTERVAL:P3D
CALSCALE:GREGORIAN
BEGIN:VEVENT
DTSTART:20080410T180000Z
DTEND:20080410T180000Z
X-MICROSOFT-CDO-ALLDAYEVENT:FALSE
SUMMARY:Mountain West Medical Center Healthy Women Annual Event
DESCRIPTION:Mountain West Medical CenterHealthy Women Annual Event
X-ALT-DESC;FMTTYPE=text/html:<div>Mountain West Medical Center</div><div>Healthy Women Annual Event</div><div>&nbsp\;</div>
LOCATION:Tooele High School301 W. Vine St.\, Tooele
UID:e.125.378
SEQUENCE:3
DTSTAMP:20260424T221610Z
URL:https://business.tooelechamber.com/events/details/mountain-west-medical-center-healthy-women-annual-event-04-10-2008-378
END:VEVENT

END:VCALENDAR
