BEGIN:VCALENDAR
VERSION:2.0
PRODID:-//ChamberMaster//Event Calendar 2.0//EN
METHOD:PUBLISH
X-PUBLISHED-TTL:P3D
REFRESH-INTERVAL:P3D
CALSCALE:GREGORIAN
BEGIN:VEVENT
DTSTART:20100727T173000Z
DTEND:20100727T190000Z
X-MICROSOFT-CDO-ALLDAYEVENT:FALSE
SUMMARY:Mountain West Women's Center Grand Opening
DESCRIPTION:Reception and Luncheon\nCelebrating the Opening of Mountain West Women's Center \n  \n  Date:   Tuesday\, July 27 \nTime:  11:30 a.m.   1:00 p.m. \nPlace:  Mountain West Women's Center \n  \nThis special event will include lunch\, tours\, a short program\, and ribbon cutting.   \n  \nFor more information\, or to RSVP\, please contact: \n  \nLuAnne Banks \n(435) 843-3787 \nluanne_banks@chs.net
X-ALT-DESC;FMTTYPE=text/html:<div><p class="MsoNormal" align="center" style="text-align: center\; margin: 0in 0in 0pt"><font size="3"><font face="Times New Roman"><b>Reception and Luncheon<br />Celebrating the Opening of Mountain West Women&rsquo\;s Center</b>&nbsp\;<br />&nbsp\;&nbsp\;</font></font><font size="3" face="Times New Roman"><br />&nbsp\; Date: &nbsp\; Tuesday\, July 27 <br />Time: &nbsp\;11:30 a.m. &ndash\; 1:00 p.m. <br />Place: &nbsp\;Mountain West Women&rsquo\;s Center <br />&nbsp\; <br />This special event will include lunch\, tours\, a short program\, and ribbon cutting. &nbsp\; <br />&nbsp\; <br />For more information\, or to RSVP\, please contact: <br />&nbsp\; <br />LuAnne Banks <br />(435) 843-3787 <br /></font><a href="mailto:luanne_banks@chs.net"><font size="3" face="Times New Roman">luanne_banks@chs.net</font></a><font size="3" face="Times New Roman"> </font></p></div>
LOCATION:Place: Mountain West Women's Center
UID:e.125.3201
SEQUENCE:3
DTSTAMP:20260423T032908Z
URL:https://business.tooelechamber.com/events/details/mountain-west-women-s-center-grand-opening-07-27-2010-3201
END:VEVENT

END:VCALENDAR
