BEGIN:VCALENDAR
VERSION:2.0
PRODID:-//ChamberMaster//Event Calendar 2.0//EN
METHOD:PUBLISH
X-PUBLISHED-TTL:P3D
REFRESH-INTERVAL:P3D
CALSCALE:GREGORIAN
BEGIN:VEVENT
DTSTART;VALUE=DATE:20090801
DTEND;VALUE=DATE:20090802
TRANSP:TRANSPARENT
X-MICROSOFT-CDO-ALLDAYEVENT:TRUE
SUMMARY:Movie at the Library
DESCRIPTION:Movie at the Library3 pm128 West Vine\, Tooele435-882-2182
X-ALT-DESC;FMTTYPE=text/html:<div style="text-align: center"><span style="font-size: large">Movie at the Library</span></div><div style="text-align: center"><span style="font-size: large">3 pm</span></div><div style="text-align: center"><span style="font-size: large">128 West Vine\, Tooele</span></div><div style="text-align: center"><span style="font-size: large">435-882-2182</span></div>
LOCATION:
UID:e.125.2545
SEQUENCE:3
DTSTAMP:20260423T200025Z
URL:https://business.tooelechamber.com/events/details/movie-at-the-library-08-01-2009-2545
END:VEVENT

END:VCALENDAR
