BEGIN:VCALENDAR
VERSION:2.0
PRODID:-//ChamberMaster//Event Calendar 2.0//EN
METHOD:PUBLISH
X-PUBLISHED-TTL:P3D
REFRESH-INTERVAL:P3D
CALSCALE:GREGORIAN
BEGIN:VEVENT
DTSTART:20080422T220000Z
DTEND:20080422T220000Z
X-MICROSOFT-CDO-ALLDAYEVENT:FALSE
SUMMARY:Movie '' Enchanted'' at the Library
DESCRIPTION:The movie " Enchanted" will be playing at the Tooele CIty Libraryon April 22nd\, 2008 at 4pm128 West Vine Street\, Tooele
X-ALT-DESC;FMTTYPE=text/html:<div>The movie &quot\; Enchanted&quot\; will be playing at the Tooele CIty Library</div><div>on April 22nd\, 2008 at 4pm</div><div>128 West Vine Street\, Tooele</div><div>&nbsp\;</div>
LOCATION:
UID:e.125.389
SEQUENCE:3
DTSTAMP:20260424T220602Z
URL:https://business.tooelechamber.com/events/details/movie-enchanted-at-the-library-04-22-2008-389
END:VEVENT

END:VCALENDAR
