BEGIN:VCALENDAR
VERSION:2.0
PRODID:-//ChamberMaster//Event Calendar 2.0//EN
METHOD:PUBLISH
X-PUBLISHED-TTL:P3D
REFRESH-INTERVAL:P3D
CALSCALE:GREGORIAN
BEGIN:VEVENT
DTSTART:20110917T160000Z
DTEND:20110917T200000Z
X-MICROSOFT-CDO-ALLDAYEVENT:FALSE
SUMMARY:Museum Days
DESCRIPTION:Tooele County Daughters of Utah Pioneers\n\n	Museum Days\n\n	Saturday\, September 17\, 2011 from 10am-2pm\n\n	47 East Vine Street\, Tooele\n\n	843-0771
X-ALT-DESC;FMTTYPE=text/html:<p style="text-align: center">\n	<span style="font-size: 20px">Tooele County Daughters of Utah Pioneers<br />\n	Museum Days<br />\n	Saturday\, September 17\, 2011 from 10am-2pm<br />\n	47 East Vine Street\, Tooele<br />\n	843-0771</span></p>\n
LOCATION:
UID:e.125.3296
SEQUENCE:3
DTSTAMP:20260422T061751Z
URL:https://business.tooelechamber.com/events/details/museum-days-09-17-2011-3296
END:VEVENT

END:VCALENDAR
