BEGIN:VCALENDAR
VERSION:2.0
PRODID:-//ChamberMaster//Event Calendar 2.0//EN
METHOD:PUBLISH
X-PUBLISHED-TTL:P3D
REFRESH-INTERVAL:P3D
CALSCALE:GREGORIAN
BEGIN:VEVENT
DTSTART;VALUE=DATE:20090309
DTEND;VALUE=DATE:20090310
TRANSP:TRANSPARENT
X-MICROSOFT-CDO-ALLDAYEVENT:TRUE
SUMMARY:MWMC Senior Circle Concert featuring Doug Gabriel
DESCRIPTION:March 9thMWMC Senior Circle concert featuring Doug Gabriel Tooele High AuditoriumContact: 435-843-3691www.mountainwestmc.com
X-ALT-DESC;FMTTYPE=text/html:<div style="margin: 0in 0in 0pt"><span style="font-size: 14pt">&nbsp\;</span></div><div style="margin: 0in 0in 0pt" align="center"><span style="font-size: 14pt">March 9<sup>th</sup></span></div><div style="margin: 0in 0in 0pt" align="center"><span style="font-size: 14pt">MWMC Senior Circle concert </span></div><div style="margin: 0in 0in 0pt" align="center"><span style="font-size: 14pt">featuring Doug Gabriel </span></div><div style="margin: 0in 0in 0pt" align="center"><span style="font-size: 14pt">Tooele High Auditorium</span></div><div style="margin: 0in 0in 0pt" align="center"><span style="font-size: 14pt">Contact: 435-843-3691</span></div><div style="margin: 0in 0in 0pt" align="center"><span style="font-size: 14pt"><a href="http://www.mountainwestmc.com/">www.mountainwestmc.com</a></span></div>
LOCATION:
UID:e.125.499
SEQUENCE:3
DTSTAMP:20260424T041445Z
URL:https://business.tooelechamber.com/events/details/mwmc-senior-circle-concert-featuring-doug-gabriel-03-09-2009-499
END:VEVENT

END:VCALENDAR
