BEGIN:VCALENDAR
VERSION:2.0
PRODID:-//ChamberMaster//Event Calendar 2.0//EN
METHOD:PUBLISH
X-PUBLISHED-TTL:P3D
REFRESH-INTERVAL:P3D
CALSCALE:GREGORIAN
BEGIN:VEVENT
DTSTART:20100506T180000Z
DTEND:20100506T190000Z
X-MICROSOFT-CDO-ALLDAYEVENT:FALSE
SUMMARY:National Day of Prayer
DESCRIPTION:National Day of Prayer Schedule To be held at Veterans Memorial Park  12:00     Welcome & overview (Bill Upton)12:05     2 songs (Alex)12:15     History & intro mayor (John McCartney)12:20     Remarks from mayor (Patrick Dunlavy)12:25     Scripture (Andy Nixon)12:30     Solo (Joni Runyon)12:35     Prayer12:45     Song   God Bless America (Alex)
X-ALT-DESC;FMTTYPE=text/html:<div><p class="MsoNormal" style="text-align: center\; margin: 0in 0in 0pt"><span style="font-size: large"><u><strong><font face="Calibri">National Day of Prayer Schedule </font></strong></u></span></p><p class="MsoNormal" style="text-align: center\; margin: 0in 0in 0pt"><span style="font-size: large"><font face="Calibri">To be held at Veterans Memorial Park </font></span></p><p class="MsoNormal" style="text-align: center\; margin: 0in 0in 0pt">&nbsp\;</p><p class="MsoNormal" style="margin: 0in 0in 0pt"><span style="font-size: medium"><font face="Calibri">12:00&nbsp\;&nbsp\;&nbsp\;&nbsp\; Welcome &amp\; overview (Bill Upton)</font></span></p><p class="MsoNormal" style="margin: 0in 0in 0pt"><span style="font-size: medium"><font face="Calibri">12:05&nbsp\;&nbsp\;&nbsp\;&nbsp\; 2 songs (Alex)</font></span></p><p class="MsoNormal" style="margin: 0in 0in 0pt"><span style="font-size: medium"><font face="Calibri">12:15&nbsp\;&nbsp\;&nbsp\;&nbsp\; History &amp\; intro mayor (John McCartney)</font></span></p><p class="MsoNormal" style="margin: 0in 0in 0pt"><span style="font-size: medium"><font face="Calibri">12:20&nbsp\;&nbsp\;&nbsp\;&nbsp\; Remarks from mayor (Patrick Dunlavy)</font></span></p><p class="MsoNormal" style="margin: 0in 0in 0pt"><span style="font-size: medium"><font face="Calibri">12:25&nbsp\;&nbsp\;&nbsp\;&nbsp\; Scripture (Andy Nixon)</font></span></p><p class="MsoNormal" style="margin: 0in 0in 0pt"><span style="font-size: medium"><font face="Calibri">12:30&nbsp\;&nbsp\;&nbsp\;&nbsp\; Solo (Joni Runyon)</font></span></p><p class="MsoNormal" style="margin: 0in 0in 0pt"><span style="font-size: medium"><font face="Calibri">12:35&nbsp\;&nbsp\;&nbsp\;&nbsp\; Prayer</font></span></p><p class="MsoNormal" style="margin: 0in 0in 0pt"><span style="font-size: medium"><font face="Calibri">12:45&nbsp\;&nbsp\;&nbsp\;&nbsp\; Song &ndash\; God Bless America (Alex)</font></span></p></div>
LOCATION:
UID:e.125.3162
SEQUENCE:3
DTSTAMP:20260423T063104Z
URL:https://business.tooelechamber.com/events/details/national-day-of-prayer-05-06-2010-3162
END:VEVENT

END:VCALENDAR
