BEGIN:VCALENDAR
VERSION:2.0
PRODID:-//ChamberMaster//Event Calendar 2.0//EN
METHOD:PUBLISH
X-PUBLISHED-TTL:P3D
REFRESH-INTERVAL:P3D
CALSCALE:GREGORIAN
BEGIN:VEVENT
DTSTART:20110927T000000Z
DTEND:20110927T020000Z
X-MICROSOFT-CDO-ALLDAYEVENT:FALSE
SUMMARY:National Eat Dinner with Your Family Day!
DESCRIPTION:FREE Family Celebration\n\n	National Eat Dinner with Your Family Day! \n\n	Monday\, September 26\, 2011 @ 6pm\n\n	Tooele City Park (corner of Vine and 200 West)\n\n	Families of all ages are invited (this is a family activity. All youth must be accompanied by an adult).\n\n	~ Enjoy a night with dinner\, activities\, and help your family benefit by eating dinner together!\n\n	~ Families will be given a coupon (only $5 for the entire family) to swim that evening at the Pratt Aquatic Center.
X-ALT-DESC;FMTTYPE=text/html:<p style="text-align: center">\n	<span style="font-size: 20px"><u><strong>FREE Family Celebration<br />\n	National Eat Dinner with Your Family Day! </strong></u><br />\n	Monday\, September 26\, 2011 @ 6pm<br />\n	Tooele City Park (corner of Vine and 200 West)<br />\n	Families of all ages are invited (this is a family activity. All youth must be accompanied by an adult).<br />\n	~ Enjoy a night with dinner\, activities\, and help your family benefit by eating dinner together!<br />\n	~ Families will be given a coupon&nbsp\;(only $5 for the entire family) to swim that evening at the Pratt Aquatic Center. </span></p>\n
LOCATION:
UID:e.125.3880
SEQUENCE:3
DTSTAMP:20260422T045346Z
URL:https://business.tooelechamber.com/events/details/national-eat-dinner-with-your-family-day-09-26-2011-3880
END:VEVENT

END:VCALENDAR
