BEGIN:VCALENDAR
VERSION:2.0
PRODID:-//ChamberMaster//Event Calendar 2.0//EN
METHOD:PUBLISH
X-PUBLISHED-TTL:P3D
REFRESH-INTERVAL:P3D
CALSCALE:GREGORIAN
BEGIN:VEVENT
DTSTART:20101115T180000Z
DTEND:20101115T210000Z
X-MICROSOFT-CDO-ALLDAYEVENT:FALSE
SUMMARY:National Recycling Day
DESCRIPTION:Monday November 15th is National Recycling Day.\n\n	 \n\n	\n\n	Green Box Recycling will be having an open house from 11am-2pm\, free hot dogs and hamburgers will be provided. They are also conducting a food drive for the Tooele County Food Bank. If people bring in aluminum cans to recycle\, they can receive an extra 5 cents per pound for their cans if they bring in food items for the food bank. Please help us make this an awesome event!!\n\n\n	 \n\n\n	Come join us on Monday for lunch.\n\n	\n\n	Green Box Recycling\n\n	1500 W Atlas Way\n\n	Utah Industrial Depot\n\n	Tooele\, UT\n\n	435-882-2222
X-ALT-DESC;FMTTYPE=text/html:<p align="center" class="MsoNormal" style="text-align: center\; margin: 0in 0in 0pt">\n	<span style="font-family: 'verdana'\, 'sans-serif'\; color: black\; font-size: 15pt\; mso-fareast-font-family: 'times new roman'">Monday November 15th is National Recycling Day.</span><br />\n	<font color="#000000" face="Times New Roman" size="3">&nbsp\;</font></p>\n<p class="MsoNormal" style="margin: 0in 0in 0pt">\n	<br />\n	<span style="font-family: 'verdana'\, 'sans-serif'\; color: black\; font-size: 10pt\; mso-fareast-font-family: 'times new roman'">Green Box Recycling will be having an open house from 11am-2pm\,&nbsp\;free hot dogs and hamburgers will be provided.&nbsp\;They are also&nbsp\;conducting a food&nbsp\;drive for&nbsp\;the Tooele County Food Bank. If people bring in aluminum cans to recycle\, they can receive an extra 5 cents per pound for their cans if they bring in food&nbsp\;items for the food bank. Please help us make this an awesome event!!<u1:p></u1:p></span></p>\n<u2:p></u2:p>\n<p class="MsoNormal" style="margin: 0in 0in 0pt">\n	<span style="font-family: 'verdana'\, 'sans-serif'\; color: black\; font-size: 10pt\; mso-fareast-font-family: 'times new roman'">&nbsp\;<u1:p></u1:p></span></p>\n<u2:p></u2:p>\n<p class="MsoNormal" style="margin: 0in 0in 0pt">\n	<span style="font-family: 'verdana'\, 'sans-serif'\; color: black\; font-size: 10pt\; mso-fareast-font-family: 'times new roman'">Come join us on Monday for&nbsp\;lunch.<br />\n	<br />\n	Green Box Recycling<br />\n	1500 W Atlas Way<br />\n	Utah Industrial Depot<br />\n	Tooele\, UT<br />\n	435-882-2222</span></p>\n
LOCATION:
UID:e.125.3298
SEQUENCE:3
DTSTAMP:20260422T210110Z
URL:https://business.tooelechamber.com/events/details/national-recycling-day-11-15-2010-3298
END:VEVENT

END:VCALENDAR
