BEGIN:VCALENDAR
VERSION:2.0
PRODID:-//ChamberMaster//Event Calendar 2.0//EN
METHOD:PUBLISH
X-PUBLISHED-TTL:P3D
REFRESH-INTERVAL:P3D
CALSCALE:GREGORIAN
BEGIN:VEVENT
DTSTART:20140514T180000Z
DTEND:20140514T190000Z
X-MICROSOFT-CDO-ALLDAYEVENT:FALSE
SUMMARY:Ninigrit Luncheon
DESCRIPTION:Luncheon
X-ALT-DESC;FMTTYPE=text/html:Luncheon&nbsp\; &nbsp\;
LOCATION:Chamber Office 154 South Main Street\, Tooele UT 84074
UID:e.125.5077
SEQUENCE:3
DTSTAMP:20260419T200804Z
URL:https://business.tooelechamber.com/events/details/ninigrit-luncheon-05-14-2014-5077
END:VEVENT

END:VCALENDAR
