BEGIN:VCALENDAR
VERSION:2.0
PRODID:-//ChamberMaster//Event Calendar 2.0//EN
METHOD:PUBLISH
X-PUBLISHED-TTL:P3D
REFRESH-INTERVAL:P3D
CALSCALE:GREGORIAN
BEGIN:VEVENT
DTSTART:20140512T150000Z
DTEND:20140512T160000Z
X-MICROSOFT-CDO-ALLDAYEVENT:FALSE
SUMMARY:Northpointe Surgical Center Ribbon Cutting
DESCRIPTION:Ribbon Cutting
X-ALT-DESC;FMTTYPE=text/html:Ribbon Cutting&nbsp\; &nbsp\;
LOCATION:2326 North 400 East Building C Suit 100\, Tooele UT 84074
UID:e.125.5075
SEQUENCE:3
DTSTAMP:20260419T222904Z
URL:https://business.tooelechamber.com/events/details/northpointe-surgical-center-ribbon-cutting-05-12-2014-5075
END:VEVENT

END:VCALENDAR
