BEGIN:VCALENDAR
VERSION:2.0
PRODID:-//ChamberMaster//Event Calendar 2.0//EN
METHOD:PUBLISH
X-PUBLISHED-TTL:P3D
REFRESH-INTERVAL:P3D
CALSCALE:GREGORIAN
BEGIN:VEVENT
DTSTART;VALUE=DATE:20110530
DTEND;VALUE=DATE:20110531
TRANSP:TRANSPARENT
X-MICROSOFT-CDO-ALLDAYEVENT:TRUE
SUMMARY:Office Closed
DESCRIPTION:The Chamber Office will be closed Monday\, May 30\, 2011 in observance of the\n\n	Memorial Day Holiday
X-ALT-DESC;FMTTYPE=text/html:<p style="text-align: center">\n	<span style="font-size: 28px"><span style="font-family: comic sans ms"><span style="color: #ff0000">The Chamber Office will be closed Monday\, </span>May 30\, 2011 in observance of the<br />\n	<span style="color: #0000ff">Memorial Day Holiday</span></span></span></p>\n
LOCATION:
UID:e.125.3692
SEQUENCE:3
DTSTAMP:20260422T104210Z
URL:https://business.tooelechamber.com/events/details/office-closed-05-30-2011-3692
END:VEVENT

END:VCALENDAR
