BEGIN:VCALENDAR
VERSION:2.0
PRODID:-//ChamberMaster//Event Calendar 2.0//EN
METHOD:PUBLISH
X-PUBLISHED-TTL:P3D
REFRESH-INTERVAL:P3D
CALSCALE:GREGORIAN
BEGIN:VEVENT
DTSTART:20120505T180000Z
DTEND:20120506T000000Z
X-MICROSOFT-CDO-ALLDAYEVENT:FALSE
SUMMARY:Open Bounce & Food Drive
DESCRIPTION:Jumpin'Jack Splash is sponsoring an Open Bounce & Food Drive to fill the shelves of the Tooele County Food Bank.\n\n	Where:  Dow James Building\n\n	When: May 5th 12:00 pm-6:00 pm\n\n	Cost: Two Cans of Food per Person\n\n	\n\n	Public Welcome!! \n\n	for more information or to volunteer or to Donate Call 435-843-1500
X-ALT-DESC;FMTTYPE=text/html:<p style="text-align: center">\n	<span style="font-size: 22px"><span style="font-family: verdana">Jumpin&#39\;Jack Splash is sponsoring an Open Bounce &amp\; Food Drive to fill the shelves of the Tooele County Food Bank.<br />\n	Where:&nbsp\; Dow James Building<br />\n	When: May 5th 12:00 pm-6:00 pm<br />\n	Cost: Two Cans of Food per Person<br />\n	<br />\n	Public Welcome!!&nbsp\;<br />\n	for more information or to volunteer or to Donate Call 435-843-1500</span></span></p>\n
LOCATION:
UID:e.125.4805
SEQUENCE:3
DTSTAMP:20260421T173817Z
URL:https://business.tooelechamber.com/events/details/open-bounce-food-drive-05-05-2012-4805
END:VEVENT

END:VCALENDAR
