BEGIN:VCALENDAR
VERSION:2.0
PRODID:-//ChamberMaster//Event Calendar 2.0//EN
METHOD:PUBLISH
X-PUBLISHED-TTL:P3D
REFRESH-INTERVAL:P3D
CALSCALE:GREGORIAN
BEGIN:VEVENT
DTSTART;VALUE=DATE:20130715
DTEND;VALUE=DATE:20130716
TRANSP:TRANSPARENT
X-MICROSOFT-CDO-ALLDAYEVENT:TRUE
SUMMARY:Open House & Ribbon Cutting
DESCRIPTION:Open House & Ribbon Cutting\n\n	Tooele City Water Reclamation Facility\n\n	July 15th\, 2013\n\n	3300 North 1200 West\, Tooele\, Utah\n\n	9:00am-1:00pm
X-ALT-DESC;FMTTYPE=text/html:<div style="color: gray">\n	<span style="color: #ff0000"><span style="font-size: 22px">Open House &amp\; Ribbon Cutting<br />\n	Tooele City Water Reclamation Facility<br />\n	July 15<sup>th</sup>\, 2013<br />\n	3300 North 1200 West\, Tooele\, Utah<br />\n	9:00am-1:00pm</span></span><br />\n	&nbsp\;</div>\n
LOCATION:
UID:e.125.5032
SEQUENCE:3
DTSTAMP:20260420T151307Z
URL:https://business.tooelechamber.com/events/details/open-house-ribbon-cutting-07-15-2013-5032
END:VEVENT

END:VCALENDAR
