BEGIN:VCALENDAR
VERSION:2.0
PRODID:-//ChamberMaster//Event Calendar 2.0//EN
METHOD:PUBLISH
X-PUBLISHED-TTL:P3D
REFRESH-INTERVAL:P3D
CALSCALE:GREGORIAN
BEGIN:VEVENT
DTSTART:20080517T170000Z
DTEND:20080517T220000Z
X-MICROSOFT-CDO-ALLDAYEVENT:FALSE
SUMMARY:Opening Day\, Ophir Historic District Museum
DESCRIPTION:Opening Day Celebration\, Ophir Historic District MuseumRefreshments Served
X-ALT-DESC;FMTTYPE=text/html:<div>Opening Day Celebration\, Ophir Historic District Museum</div><div>Refreshments Served</div>
LOCATION:Museum Site52 Main StreetOphir\, UT
UID:e.125.392
SEQUENCE:3
DTSTAMP:20260424T220039Z
URL:https://business.tooelechamber.com/events/details/opening-day-ophir-historic-district-museum-05-17-2008-392
END:VEVENT

END:VCALENDAR
