BEGIN:VCALENDAR
VERSION:2.0
PRODID:-//ChamberMaster//Event Calendar 2.0//EN
METHOD:PUBLISH
X-PUBLISHED-TTL:P3D
REFRESH-INTERVAL:P3D
CALSCALE:GREGORIAN
BEGIN:VEVENT
DTSTART;VALUE=DATE:20100731
DTEND;VALUE=DATE:20100801
TRANSP:TRANSPARENT
X-MICROSOFT-CDO-ALLDAYEVENT:TRUE
SUMMARY:Ophir Days\, Ophir Ball Park
DESCRIPTION:Ophir Day\, Ophir Town Park
X-ALT-DESC;FMTTYPE=text/html:<div><font face="Frutiger-LightCn" size="1"><font face="Frutiger-LightCn" size="1"><p>Ophir Day\, Ophir&nbsp\;Town Park</p></font></font></div>
LOCATION:
UID:e.125.1214
SEQUENCE:3
DTSTAMP:20260423T032823Z
URL:https://business.tooelechamber.com/events/details/ophir-days-ophir-ball-park-07-31-2010-1214
END:VEVENT

END:VCALENDAR
