BEGIN:VCALENDAR
VERSION:2.0
PRODID:-//ChamberMaster//Event Calendar 2.0//EN
METHOD:PUBLISH
X-PUBLISHED-TTL:P3D
REFRESH-INTERVAL:P3D
CALSCALE:GREGORIAN
BEGIN:VEVENT
DTSTART:20100407T010000Z
DTEND:20100407T030000Z
X-MICROSOFT-CDO-ALLDAYEVENT:FALSE
SUMMARY:Ophir Town Council
DESCRIPTION:Ophir Town Council7 pmOphir Town Hall
X-ALT-DESC;FMTTYPE=text/html:<div align="center"><font size="5">Ophir Town Council</font></div><div align="center"><font size="5">7 pm</font></div><div align="center"><font size="5">Ophir Town Hall</font></div>
LOCATION:
UID:e.125.1279
SEQUENCE:3
DTSTAMP:20260423T083314Z
URL:https://business.tooelechamber.com/events/details/ophir-town-council-04-06-2010-1279
END:VEVENT

END:VCALENDAR
