BEGIN:VCALENDAR
VERSION:2.0
PRODID:-//ChamberMaster//Event Calendar 2.0//EN
METHOD:PUBLISH
X-PUBLISHED-TTL:P3D
REFRESH-INTERVAL:P3D
CALSCALE:GREGORIAN
BEGIN:VEVENT
DTSTART:20101124T010000Z
DTEND:20101124T023000Z
X-MICROSOFT-CDO-ALLDAYEVENT:FALSE
SUMMARY:Parenting Classes
DESCRIPTION:Parenting Classes\n\n	Presented by: Valley Mental Health\n\n	Starting Tuesday\, Novenber 2nd -December 21st\n\n	Tuesday Evenings only \n\n	From 6-7:30pm\n\n	100 South 1000 West\, Tooele\n\n	Cost: $72 or medicaid is accepted for full coverage of cost (for open clients). PCN insurance in not accepted.\n\n	For more information call Valley Mental Health of Tooele 843-3520
X-ALT-DESC;FMTTYPE=text/html:<p style="text-align: center">\n	<span style="font-size: 18px">Parenting Classes<br />\n	Presented by: Valley Mental Health<br />\n	Starting Tuesday\, Novenber 2nd -December 21st<br />\n	Tuesday Evenings only&nbsp\;<br />\n	From 6-7:30pm<br />\n	100 South 1000 West\, Tooele<br />\n	Cost: $72 or medicaid is accepted for full coverage of cost (for open clients). PCN insurance in not accepted.<br />\n	For more information call Valley Mental Health of Tooele 843-3520<span _fck_bookmark="1" style="display: none">&nbsp\;</span></span></p>\n
LOCATION:
UID:e.125.3278
SEQUENCE:3
DTSTAMP:20260422T202616Z
URL:https://business.tooelechamber.com/events/details/parenting-classes-11-23-2010-3278
END:VEVENT

END:VCALENDAR
