BEGIN:VCALENDAR
VERSION:2.0
PRODID:-//ChamberMaster//Event Calendar 2.0//EN
METHOD:PUBLISH
X-PUBLISHED-TTL:P3D
REFRESH-INTERVAL:P3D
CALSCALE:GREGORIAN
BEGIN:VEVENT
DTSTART;VALUE=DATE:20080914
DTEND;VALUE=DATE:20080915
TRANSP:TRANSPARENT
X-MICROSOFT-CDO-ALLDAYEVENT:TRUE
SUMMARY:Patriot day Car Truck & Bike Show & $1000.00 poker run
DESCRIPTION:Patriot day Car Truck & Bike Show & $1000.00 poker run\, with stops at Tracks\, Tooele Veterans Memorial Park ( for a special presentation ) \, then to the worlds largest Private WWII Military Collection ( for a tour and to watch a Tank crush a Car )\, then to Miller Motorsports Park ( for a parade lap and awards ) to help the soldiers and their families. Donations welcome.. JC Hackett Rockin Oldies will host the show ...
X-ALT-DESC;FMTTYPE=text/html:<div><span style="font-size: 12pt\; font-family: &quot\;Times New Roman&quot\;\; mso-fareast-font-family: 'Times New Roman'\; mso-font-kerning: 14.0pt\; mso-ansi-language: EN-US\; mso-fareast-language: EN-US\; mso-bidi-language: AR-SA">Patriot day Car Truck &amp\; Bike Show &amp\; $1000.00 poker run\, with stops at Tracks\, Tooele Veterans Memorial Park ( for a special presentation ) \, then to the worlds largest Private WWII Military Collection ( for a tour and to watch a Tank crush a Car )\, then to Miller Motorsports Park ( for a parade lap and awards ) to help the soldiers and their families. Donations welcome.. JC Hackett Rockin Oldies will host the show ...</span></div>
LOCATION:
UID:e.125.402
SEQUENCE:3
DTSTAMP:20260424T141512Z
URL:https://business.tooelechamber.com/events/details/patriot-day-car-truck-bike-show-1000-00-poker-run-09-14-2008-402
END:VEVENT

END:VCALENDAR
