BEGIN:VCALENDAR
VERSION:2.0
PRODID:-//ChamberMaster//Event Calendar 2.0//EN
METHOD:PUBLISH
X-PUBLISHED-TTL:P3D
REFRESH-INTERVAL:P3D
CALSCALE:GREGORIAN
BEGIN:VEVENT
DTSTART:20090327T010000Z
DTEND:20090327T030000Z
X-MICROSOFT-CDO-ALLDAYEVENT:FALSE
SUMMARY:Photography Class
DESCRIPTION:Photography ClassTooele City Hall90 North Main\, TooeleMarch 26th7-9 pm435-843-2100
X-ALT-DESC;FMTTYPE=text/html:<div align="center"><font size="4">Photography Class</font></div><div align="center"><font size="4">Tooele City Hall</font></div><div align="center"><font size="4">90 North Main\, Tooele</font></div><div align="center"><font size="4">March 26th</font></div><div align="center"><font size="4">7-9 pm</font></div><div align="center"><font size="4">435-843-2100</font></div>
LOCATION:
UID:e.125.561
SEQUENCE:3
DTSTAMP:20260424T052502Z
URL:https://business.tooelechamber.com/events/details/photography-class-03-26-2009-561
END:VEVENT

END:VCALENDAR
