BEGIN:VCALENDAR
VERSION:2.0
PRODID:-//ChamberMaster//Event Calendar 2.0//EN
METHOD:PUBLISH
X-PUBLISHED-TTL:P3D
REFRESH-INTERVAL:P3D
CALSCALE:GREGORIAN
BEGIN:VEVENT
DTSTART:20090320T000000Z
DTEND:20090320T010000Z
X-MICROSOFT-CDO-ALLDAYEVENT:FALSE
SUMMARY:Photography Show
DESCRIPTION:Thursday\, March 19thPhotography Show Open House Tooele City Hall90 North Main\, Tooele6-7 pm
X-ALT-DESC;FMTTYPE=text/html:<div align="center"><font size="4">Thursday\, March 19th</font></div><div align="center"><font size="4">Photography Show&nbsp\;Open House </font></div><div align="center"><font size="4">Tooele City Hall</font></div><div align="center"><font size="4">90 North Main\, Tooele</font></div><div align="center"><font size="4">6-7 pm</font></div>
LOCATION:
UID:e.125.556
SEQUENCE:3
DTSTAMP:20260424T041339Z
URL:https://business.tooelechamber.com/events/details/photography-show-03-19-2009-556
END:VEVENT

END:VCALENDAR
