BEGIN:VCALENDAR
VERSION:2.0
PRODID:-//ChamberMaster//Event Calendar 2.0//EN
METHOD:PUBLISH
X-PUBLISHED-TTL:P3D
REFRESH-INTERVAL:P3D
CALSCALE:GREGORIAN
BEGIN:VEVENT
DTSTART:20140517T060000Z
DTEND:20140517T070000Z
X-MICROSOFT-CDO-ALLDAYEVENT:FALSE
SUMMARY:Piano Recital
DESCRIPTION:Rep. S. Johnsen
X-ALT-DESC;FMTTYPE=text/html:Rep. S. Johnsen
LOCATION:Conference Room
UID:e.125.5458
SEQUENCE:3
DTSTAMP:20260419T200923Z
URL:https://business.tooelechamber.com/events/details/piano-recital-05-17-2014-5458
END:VEVENT

END:VCALENDAR
