BEGIN:VCALENDAR
VERSION:2.0
PRODID:-//ChamberMaster//Event Calendar 2.0//EN
METHOD:PUBLISH
X-PUBLISHED-TTL:P3D
REFRESH-INTERVAL:P3D
CALSCALE:GREGORIAN
BEGIN:VEVENT
DTSTART;VALUE=DATE:20090425
DTEND;VALUE=DATE:20090426
TRANSP:TRANSPARENT
X-MICROSOFT-CDO-ALLDAYEVENT:TRUE
SUMMARY:Pinocchio Play
DESCRIPTION:Featuring LocalPerformersSaturday\, April 25\, 20093:00 & 7:00 p.m.Copper CanyonElementary(1600 NorthBroadway\, Tooele)Tickets Available at the Door$3 Adult\, $2 Child\,$10 FamilyFor more information call843-2142.
X-ALT-DESC;FMTTYPE=text/html:<div><strong><em><font face="Times New Roman" size="4"><font face="Times New Roman" size="4"> <p align="left">Featuring Local</p><p align="left">Performers</p></font></font><em><font face="Rockwell"><p align="left">Saturday\, April 25\, 2009</p><p align="left">3:00 &amp\; 7:00 p.m.</p><p align="left">Copper Canyon</p><p align="left">Elementary</p><p align="left">(1600 North</p><p align="left">Broadway\, Tooele)</p><p align="left">Tickets Available at the Door</p><p align="left">$3 Adult\, $2 Child\,</p><p align="left">$10 Family</p></font><font face="Rockwell-Condensed" size="4"><font face="Rockwell-Condensed" size="4"><p align="left">For more information call</p><p>843-2142.</p></font></font></em></em></strong></div>
LOCATION:
UID:e.125.1235
SEQUENCE:3
DTSTAMP:20260424T022713Z
URL:https://business.tooelechamber.com/events/details/pinocchio-play-04-25-2009-1235
END:VEVENT

END:VCALENDAR
