BEGIN:VCALENDAR
VERSION:2.0
PRODID:-//ChamberMaster//Event Calendar 2.0//EN
METHOD:PUBLISH
X-PUBLISHED-TTL:P3D
REFRESH-INTERVAL:P3D
CALSCALE:GREGORIAN
BEGIN:VEVENT
DTSTART:20100710T160000Z
DTEND:20100710T220000Z
X-MICROSOFT-CDO-ALLDAYEVENT:FALSE
SUMMARY:Pioneer Jubilee
DESCRIPTION:Take a walk back in time and join us for a Pioneer celebration sponsored by the Utah Daughter of Pioneers. Enjoy live entertainment\, Pioneer demonstrations\, children's games\, food\, and much much more!Saturday\, July 10\, 2010 from 10am-4pmBenson Grist Mill FREE!!
X-ALT-DESC;FMTTYPE=text/html:<div style="text-align: center"><span style="font-size: large">Take a walk back in time and join us for a Pioneer celebration sponsored by the Utah Daughter of Pioneers. Enjoy live entertainment\, Pioneer demonstrations\, children&rsquo\;s games\, food\,&nbsp\;and </span></div><div style="text-align: center"><span style="font-size: large">much much more!</span></div><div style="text-align: center"><span style="font-size: large">Saturday\, July 10\, 2010 from 10am-4pm</span></div><div style="text-align: center"><span style="font-size: large">Benson Grist Mill </span></div><div style="text-align: center"><span style="font-size: large">FREE!!</span></div>
LOCATION:
UID:e.125.3188
SEQUENCE:3
DTSTAMP:20260423T032611Z
URL:https://business.tooelechamber.com/events/details/pioneer-jubilee-07-10-2010-3188
END:VEVENT

END:VCALENDAR
