BEGIN:VCALENDAR
VERSION:2.0
PRODID:-//ChamberMaster//Event Calendar 2.0//EN
METHOD:PUBLISH
X-PUBLISHED-TTL:P3D
REFRESH-INTERVAL:P3D
CALSCALE:GREGORIAN
BEGIN:VEVENT
DTSTART:20140205T090000Z
DTEND:20140205T100000Z
X-MICROSOFT-CDO-ALLDAYEVENT:FALSE
SUMMARY:Planning and Zoning
DESCRIPTION:7:00pm
X-ALT-DESC;FMTTYPE=text/html:7:00pm
LOCATION:Town Hall
UID:e.125.5669
SEQUENCE:3
DTSTAMP:20260420T035404Z
URL:https://business.tooelechamber.com/events/details/planning-and-zoning-02-05-2014-5669
END:VEVENT

END:VCALENDAR
