BEGIN:VCALENDAR
VERSION:2.0
PRODID:-//ChamberMaster//Event Calendar 2.0//EN
METHOD:PUBLISH
X-PUBLISHED-TTL:P3D
REFRESH-INTERVAL:P3D
CALSCALE:GREGORIAN
BEGIN:VEVENT
DTSTART;VALUE=DATE:20140616
DTEND;VALUE=DATE:20140617
TRANSP:TRANSPARENT
X-MICROSOFT-CDO-ALLDAYEVENT:TRUE
SUMMARY:Plein Air Art contest Begins
DESCRIPTION:
X-ALT-DESC;FMTTYPE=text/html:
LOCATION:
UID:e.125.5317
SEQUENCE:3
DTSTAMP:20260419T182142Z
URL:https://business.tooelechamber.com/events/details/plein-air-art-contest-begins-06-16-2014-5317
END:VEVENT

END:VCALENDAR
