BEGIN:VCALENDAR
VERSION:2.0
PRODID:-//ChamberMaster//Event Calendar 2.0//EN
METHOD:PUBLISH
X-PUBLISHED-TTL:P3D
REFRESH-INTERVAL:P3D
CALSCALE:GREGORIAN
BEGIN:VEVENT
DTSTART:20100512T010000Z
DTEND:20100512T020000Z
X-MICROSOFT-CDO-ALLDAYEVENT:FALSE
SUMMARY:Poetry Reading
DESCRIPTION:Poetry Reading Tuesday\, May 11\, 2010 Jackrabbit Press272 North Broadway (350 East)\, TooeleCome enjoy complimentary refreshments provided by: Nigh Time DonutsAny questions?(435)840-0679 or order@jackrabbitpress.net
X-ALT-DESC;FMTTYPE=text/html:<div style="text-align: center"><u><strong><span style="font-size: large">Poetry Reading </span></strong></u></div><div style="text-align: center"><span style="font-size: large">Tuesday\, May 11\, 2010 </span></div><div style="text-align: center"><span style="font-size: large">Jackrabbit Press</span></div><div style="text-align: center"><span style="font-size: large">272 North Broadway (350 East)\, Tooele</span></div><div style="text-align: center"><span style="font-size: large">Come enjoy complimentary refreshments provided by: Nigh Time Donuts</span></div><div style="text-align: center"><span style="font-size: large">Any questions?</span></div><div style="text-align: center"><span style="font-size: large">(435)840-0679</span> <span style="font-size: large">or </span><a href="mailto:order@jackrabbitpress.net"><span style="font-size: large">order@jackrabbitpress.net</span></a></div>
LOCATION:
UID:e.125.3163
SEQUENCE:3
DTSTAMP:20260423T062404Z
URL:https://business.tooelechamber.com/events/details/poetry-reading-05-11-2010-3163
END:VEVENT

END:VCALENDAR
