BEGIN:VCALENDAR
VERSION:2.0
PRODID:-//ChamberMaster//Event Calendar 2.0//EN
METHOD:PUBLISH
X-PUBLISHED-TTL:P3D
REFRESH-INTERVAL:P3D
CALSCALE:GREGORIAN
BEGIN:VEVENT
DTSTART:20101013T010000Z
DTEND:20101013T020000Z
X-MICROSOFT-CDO-ALLDAYEVENT:FALSE
SUMMARY:Poetry Reading
DESCRIPTION:October 12th at 7pm \n\n	Our Monthly Poetry Reading \n\n	Come read your poem or your favorite poem- written by someone else \n\n	Or just come to enjoy! \n\n	Gloria Kershaw\, Independent Scentsy Consultant \n\n	will sponsor this month's event. \n\n	Light Refreshments will be served \n\n	No cost for this event- All Welcome
X-ALT-DESC;FMTTYPE=text/html:<p style="text-align: center">\n	&nbsp\;</p>\n<p style="text-align: center">\n	<b><font size="5">October 12</font><font size="3">th </font><font size="5">at 7pm </font></b></p>\n<p style="text-align: center">\n	<font face="Times New Roman\,Times New Roman" size="4"><font face="Times New Roman\,Times New Roman" size="4">Our Monthly Poetry Reading </font></font></p>\n<p style="text-align: center">\n	<font face="Times New Roman\,Times New Roman" size="4"><font face="Times New Roman\,Times New Roman" size="4">Come read your poem or your favorite poem- written by someone else </font></font></p>\n<p style="text-align: center">\n	<i><font face="Times New Roman\,Times New Roman" size="4"><font face="Times New Roman\,Times New Roman" size="4">Or </font></font></i><font face="Times New Roman\,Times New Roman" size="4"><font face="Times New Roman\,Times New Roman" size="4">just come to enjoy! </font></font></p>\n<p style="text-align: center">\n	<font face="Times New Roman\,Times New Roman" size="4"><font face="Times New Roman\,Times New Roman" size="4">Gloria Kershaw\, Independent Scentsy Consultant </font></font></p>\n<p style="text-align: center">\n	<font face="Times New Roman\,Times New Roman" size="4"><font face="Times New Roman\,Times New Roman" size="4">will sponsor this month&rsquo\;s event. </font></font></p>\n<p style="text-align: center">\n	<font face="Times New Roman\,Times New Roman" size="3"><font face="Times New Roman\,Times New Roman" size="3">Light Refreshments will be served </font></font></p>\n<p style="text-align: center">\n	<font face="Times New Roman\,Times New Roman" size="3"><font face="Times New Roman\,Times New Roman" size="3">No cost for this event- All Welcome </font></font></p>\n
LOCATION:
UID:e.125.3258
SEQUENCE:3
DTSTAMP:20260422T220107Z
URL:https://business.tooelechamber.com/events/details/poetry-reading-10-12-2010-3258
END:VEVENT

END:VCALENDAR
