BEGIN:VCALENDAR
VERSION:2.0
PRODID:-//ChamberMaster//Event Calendar 2.0//EN
METHOD:PUBLISH
X-PUBLISHED-TTL:P3D
REFRESH-INTERVAL:P3D
CALSCALE:GREGORIAN
BEGIN:VEVENT
DTSTART;VALUE=DATE:20120629
DTEND;VALUE=DATE:20120630
TRANSP:TRANSPARENT
X-MICROSOFT-CDO-ALLDAYEVENT:TRUE
SUMMARY:Primary Children's Golf Tournament
DESCRIPTION:Primary Children's Golf Tournament\n\nFriday\, June 29\, 2012\n\n@ Both Oquirrh Hill & Stansbury Park golf course\n\nLunch & Awards @ Miller Motorsports Park\n\nCatered by:  Sotanza's\n\nShotgun Starts a 8:00 am\n\nCost is $60/person or $240/team\n\nwith several sponsorship packages\n\nContact Jared or Stacy @ 435-884-5149
X-ALT-DESC;FMTTYPE=text/html:<strong><span style="font-size: 20px">Primary Children&#39\;s Golf Tournament<br />\nFriday\, June 29\, 2012<br />\n@ Both Oquirrh Hill &amp\; Stansbury Park golf course<br />\nLunch &amp\; Awards @ Miller Motorsports Park<br />\nCatered by:&nbsp\; Sotanza&#39\;s<br />\nShotgun Starts a 8:00 am<br />\nCost is $60/person or $240/team<br />\nwith several sponsorship packages<br />\nContact Jared or Stacy @ 435-884-5149</span></strong>
LOCATION:
UID:e.125.4840
SEQUENCE:3
DTSTAMP:20260421T154842Z
URL:https://business.tooelechamber.com/events/details/primary-children-s-golf-tournament-06-29-2012-4840
END:VEVENT

END:VCALENDAR
