BEGIN:VCALENDAR
VERSION:2.0
PRODID:-//ChamberMaster//Event Calendar 2.0//EN
METHOD:PUBLISH
X-PUBLISHED-TTL:P3D
REFRESH-INTERVAL:P3D
CALSCALE:GREGORIAN
BEGIN:VEVENT
DTSTART:20101015T160000Z
DTEND:20101017T030000Z
X-MICROSOFT-CDO-ALLDAYEVENT:FALSE
SUMMARY:Pumpkin Walk
DESCRIPTION:Come and enjoy the 10th annual Pumpkin Walk October 15-16\, 2010 @ 10am-9pmBenson Grist Mill Addmission is FREE!!
X-ALT-DESC;FMTTYPE=text/html:<div style="text-align: center"><span style="font-size: x-large">Come and enjoy the 10th annual Pumpkin Walk </span></div><div style="text-align: center"><span style="font-size: x-large">October 15-16\, 2010 @ 10am-9pm</span></div><div style="text-align: center"><span style="font-size: x-large">Benson Grist Mill </span></div><div style="text-align: center"><span style="font-size: x-large">Addmission is FREE!!</span></div>
LOCATION:
UID:e.125.3187
SEQUENCE:3
DTSTAMP:20260422T215908Z
URL:https://business.tooelechamber.com/events/details/pumpkin-walk-10-15-2010-3187
END:VEVENT

END:VCALENDAR
