BEGIN:VCALENDAR
VERSION:2.0
PRODID:-//ChamberMaster//Event Calendar 2.0//EN
METHOD:PUBLISH
X-PUBLISHED-TTL:P3D
REFRESH-INTERVAL:P3D
CALSCALE:GREGORIAN
BEGIN:VEVENT
DTSTART:20101029T180000Z
DTEND:20101029T190000Z
X-MICROSOFT-CDO-ALLDAYEVENT:FALSE
SUMMARY:Ribbon Cutiting
DESCRIPTION:Ribbon Cutting \n\n	Costa Vida Restaurant\n\n	Friday\, October 29th @ Noon\n\n	1197 North Main Street\, Tooele
X-ALT-DESC;FMTTYPE=text/html:<p style="text-align: center">\n	<span style="font-size: 24px"><strong><u>Ribbon Cutting </u></strong><br />\n	Costa Vida Restaurant<br />\n	Friday\, October 29th @ Noon<br />\n	1197 North Main Street\, Tooele </span></p>\n
LOCATION:
UID:e.125.3256
SEQUENCE:3
DTSTAMP:20260422T215944Z
URL:https://business.tooelechamber.com/events/details/ribbon-cutiting-10-29-2010-3256
END:VEVENT

END:VCALENDAR
