BEGIN:VCALENDAR
VERSION:2.0
PRODID:-//ChamberMaster//Event Calendar 2.0//EN
METHOD:PUBLISH
X-PUBLISHED-TTL:P3D
REFRESH-INTERVAL:P3D
CALSCALE:GREGORIAN
BEGIN:VEVENT
DTSTART:20100107T190000Z
DTEND:20100107T200000Z
X-MICROSOFT-CDO-ALLDAYEVENT:FALSE
SUMMARY:Ribbon Cutting
DESCRIPTION:Ribbon Cutting\nThursday\, January 7th - 12 pm\nGiles Construction\n612 No. Main St.\, Tooele\nCome on out and support\nour Chamber member
X-ALT-DESC;FMTTYPE=text/html:<div style="text-align: center"><font face="Times New Roman" size="4"><span style="font-size: 11pt"><font size="4"><u><b>Ribbon Cutting</b></u><br />Thursday\, January 7th - 12 pm<br />Giles Construction<br />612 No. Main St.\, Tooele<br />Come on out and support<br />our Chamber member</font></span></font></div>
LOCATION:
UID:e.125.2586
SEQUENCE:3
DTSTAMP:20260423T120110Z
URL:https://business.tooelechamber.com/events/details/ribbon-cutting-01-07-2010-2586
END:VEVENT

END:VCALENDAR
