BEGIN:VCALENDAR
VERSION:2.0
PRODID:-//ChamberMaster//Event Calendar 2.0//EN
METHOD:PUBLISH
X-PUBLISHED-TTL:P3D
REFRESH-INTERVAL:P3D
CALSCALE:GREGORIAN
BEGIN:VEVENT
DTSTART:20110225T190000Z
DTEND:20110225T193000Z
X-MICROSOFT-CDO-ALLDAYEVENT:FALSE
SUMMARY:Ribbon Cutting
DESCRIPTION:Ribbon Cutting \n\n	Blue Rock Family Dental\n\n	1887 North Aaron Drive\, Ste A\, Tooele\n\n	Friday\, February 25\, 2011 @ Noon
X-ALT-DESC;FMTTYPE=text/html:<p style="text-align: center">\n	<span style="font-size: 22px"><strong><u>Ribbon Cutting </u></strong><br />\n	Blue Rock Family Dental<br />\n	1887 North Aaron Drive\, Ste A\, Tooele<br />\n	Friday\, February 25\, 2011 @ Noon</span></p>\n
LOCATION:
UID:e.125.3610
SEQUENCE:3
DTSTAMP:20260422T154255Z
URL:https://business.tooelechamber.com/events/details/ribbon-cutting-02-25-2011-3610
END:VEVENT

END:VCALENDAR
