BEGIN:VCALENDAR
VERSION:2.0
PRODID:-//ChamberMaster//Event Calendar 2.0//EN
METHOD:PUBLISH
X-PUBLISHED-TTL:P3D
REFRESH-INTERVAL:P3D
CALSCALE:GREGORIAN
BEGIN:VEVENT
DTSTART:20080328T001500Z
DTEND:20080328T001500Z
X-MICROSOFT-CDO-ALLDAYEVENT:FALSE
SUMMARY:Ribbon Cutting
DESCRIPTION:Group 1 Real Estate Ribbon Cutting
X-ALT-DESC;FMTTYPE=text/html:<div>Group 1 Real Estate Ribbon Cutting</div>
LOCATION:36 No. Main # 5Tooele
UID:e.125.259
SEQUENCE:3
DTSTAMP:20260424T234700Z
URL:https://business.tooelechamber.com/events/details/ribbon-cutting-03-27-2008-259
END:VEVENT

END:VCALENDAR
