BEGIN:VCALENDAR
VERSION:2.0
PRODID:-//ChamberMaster//Event Calendar 2.0//EN
METHOD:PUBLISH
X-PUBLISHED-TTL:P3D
REFRESH-INTERVAL:P3D
CALSCALE:GREGORIAN
BEGIN:VEVENT
DTSTART:20080425T170000Z
DTEND:20080425T180000Z
X-MICROSOFT-CDO-ALLDAYEVENT:FALSE
SUMMARY:Ribbon Cutting
DESCRIPTION:Tooele Valley Nursery425 E. Cimmarron Way\, ErdaPlease join us in welcoming our newest Chamber member
X-ALT-DESC;FMTTYPE=text/html:<div>Tooele Valley Nursery</div><div>425 E. Cimmarron Way\, Erda</div><div>Please join us in welcoming our newest Chamber member</div>
LOCATION:425 E. Cimmarron Way\, Erda
UID:e.125.379
SEQUENCE:3
DTSTAMP:20260424T232141Z
URL:https://business.tooelechamber.com/events/details/ribbon-cutting-04-25-2008-379
END:VEVENT

END:VCALENDAR
