BEGIN:VCALENDAR
VERSION:2.0
PRODID:-//ChamberMaster//Event Calendar 2.0//EN
METHOD:PUBLISH
X-PUBLISHED-TTL:P3D
REFRESH-INTERVAL:P3D
CALSCALE:GREGORIAN
BEGIN:VEVENT
DTSTART:20120512T180000Z
DTEND:20120512T183000Z
X-MICROSOFT-CDO-ALLDAYEVENT:FALSE
SUMMARY:Ribbon Cutting
DESCRIPTION:Ribbon Cutting\n\nSaturday\, May 12\, 2012\n\nHosted by: Deseret Computer Solutions\n\n225 East Main Street\, Grantsville
X-ALT-DESC;FMTTYPE=text/html:<span style="font-size: 24px"><u>Ribbon Cutting</u><br />\nSaturday\, May 12\, 2012<br />\nHosted by: Deseret Computer Solutions<br />\n225 East Main Street\, Grantsville</span>
LOCATION:
UID:e.125.4846
SEQUENCE:3
DTSTAMP:20260421T154641Z
URL:https://business.tooelechamber.com/events/details/ribbon-cutting-05-12-2012-4846
END:VEVENT

END:VCALENDAR
