BEGIN:VCALENDAR
VERSION:2.0
PRODID:-//ChamberMaster//Event Calendar 2.0//EN
METHOD:PUBLISH
X-PUBLISHED-TTL:P3D
REFRESH-INTERVAL:P3D
CALSCALE:GREGORIAN
BEGIN:VEVENT
DTSTART:20120517T180000Z
DTEND:20120517T183000Z
X-MICROSOFT-CDO-ALLDAYEVENT:FALSE
SUMMARY:Ribbon Cutting
DESCRIPTION:Ribbon Cutting\n\n	Thursday\, May 17\, 2012\n\n	12 pm Noon\n\n	Hosted by: The Curtis Foundation\n\n	154 South Main\, Tooele\n\n	Chamber Building
X-ALT-DESC;FMTTYPE=text/html:<p>\n	<span style="font-size: 24px"><em><u>Ribbon Cutting</u></em><br />\n	Thursday\, May 17\, 2012<br />\n	12 pm Noon<br />\n	Hosted by: The Curtis Foundation<br />\n	154 South Main\, Tooele<br />\n	Chamber Building</span><br />\n	&nbsp\;</p>\n
LOCATION:
UID:e.125.4845
SEQUENCE:3
DTSTAMP:20260421T154641Z
URL:https://business.tooelechamber.com/events/details/ribbon-cutting-05-17-2012-4845
END:VEVENT

END:VCALENDAR
