BEGIN:VCALENDAR
VERSION:2.0
PRODID:-//ChamberMaster//Event Calendar 2.0//EN
METHOD:PUBLISH
X-PUBLISHED-TTL:P3D
REFRESH-INTERVAL:P3D
CALSCALE:GREGORIAN
BEGIN:VEVENT
DTSTART:20100605T175000Z
DTEND:20100605T180000Z
X-MICROSOFT-CDO-ALLDAYEVENT:FALSE
SUMMARY:Ribbon Cutting
DESCRIPTION:Ribbon Cutting  ManCaveSaturday\, June 5\, 2010 @ 11:45amSettlers Park44 West 500 South\, Tooele (Behind La Frontera Restaurant)
X-ALT-DESC;FMTTYPE=text/html:<div><div style="text-align: center"><u><strong><span style="font-size: x-large">Ribbon Cutting </span></strong></u></div><div style="text-align: center">&nbsp\;</div><div style="text-align: center"><span style="font-size: x-large">ManCave</span></div><div style="text-align: center"><span style="font-size: x-large">Saturday\, June 5\, 2010 @ 11:45am</span></div><div style="text-align: center"><span style="font-size: x-large">Settlers Park</span></div><div style="text-align: center"><span style="font-size: x-large">44 West 500 South\, Tooele </span></div><div style="text-align: center"><span style="font-size: x-large">(Behind La Frontera Restaurant)</span></div></div>
LOCATION:
UID:e.125.3173
SEQUENCE:3
DTSTAMP:20260423T062405Z
URL:https://business.tooelechamber.com/events/details/ribbon-cutting-06-05-2010-3173
END:VEVENT

END:VCALENDAR
