BEGIN:VCALENDAR
VERSION:2.0
PRODID:-//ChamberMaster//Event Calendar 2.0//EN
METHOD:PUBLISH
X-PUBLISHED-TTL:P3D
REFRESH-INTERVAL:P3D
CALSCALE:GREGORIAN
BEGIN:VEVENT
DTSTART:20100702T213000Z
DTEND:20100702T220000Z
X-MICROSOFT-CDO-ALLDAYEVENT:FALSE
SUMMARY:Ribbon Cutting
DESCRIPTION:Ribbon Cutting D'Lux Tan\, Impulse Clothing\, & Dramatic Edge PhotographyFriday\, July 2\, 2010 @ 3:30pm 134 West 1180 North Ste 9 & 10Light refreshments will be served
X-ALT-DESC;FMTTYPE=text/html:<div style="text-align: center"><u><strong><span style="font-size: x-large">Ribbon Cutting </span></strong></u></div><div style="text-align: center"><span style="font-size: x-large">D&rsquo\;Lux Tan\, Impulse Clothing\, &amp\; Dramatic Edge Photography</span></div><div style="text-align: center"><span style="font-size: x-large">Friday\, July 2\, 2010 @ 3:30pm </span></div><div style="text-align: center"><span style="font-size: x-large">134 West 1180 North Ste 9 &amp\; 10</span></div><div style="text-align: center"><span style="font-size: x-large">Light refreshments will be served </span></div>
LOCATION:
UID:e.125.3183
SEQUENCE:3
DTSTAMP:20260423T032329Z
URL:https://business.tooelechamber.com/events/details/ribbon-cutting-07-02-2010-3183
END:VEVENT

END:VCALENDAR
