BEGIN:VCALENDAR
VERSION:2.0
PRODID:-//ChamberMaster//Event Calendar 2.0//EN
METHOD:PUBLISH
X-PUBLISHED-TTL:P3D
REFRESH-INTERVAL:P3D
CALSCALE:GREGORIAN
BEGIN:VEVENT
DTSTART:20100709T180000Z
DTEND:20100709T190000Z
X-MICROSOFT-CDO-ALLDAYEVENT:FALSE
SUMMARY:Ribbon Cutting
DESCRIPTION:Ribbon Cutting Friday\, July 9\, 2010 @ 12pmGet Fit With Ty 336 North Main\, Tooele Healthy snacks will be served!
X-ALT-DESC;FMTTYPE=text/html:<div style="text-align: center"><u><strong><span style="font-size: x-large">Ribbon Cutting </span></strong></u></div><div style="text-align: center"><span style="font-size: x-large">Friday\, July 9\, 2010 @ 12pm</span></div><div style="text-align: center"><span style="font-size: x-large">Get Fit With Ty </span></div><div style="text-align: center"><span style="font-size: x-large">336 North Main\, Tooele </span></div><div style="text-align: center"><span style="font-size: x-large">Healthy snacks will be served!</span></div>
LOCATION:
UID:e.125.3205
SEQUENCE:3
DTSTAMP:20260423T044746Z
URL:https://business.tooelechamber.com/events/details/ribbon-cutting-07-09-2010-3205
END:VEVENT

END:VCALENDAR
