BEGIN:VCALENDAR
VERSION:2.0
PRODID:-//ChamberMaster//Event Calendar 2.0//EN
METHOD:PUBLISH
X-PUBLISHED-TTL:P3D
REFRESH-INTERVAL:P3D
CALSCALE:GREGORIAN
BEGIN:VEVENT
DTSTART:20110713T220000Z
DTEND:20110713T230000Z
X-MICROSOFT-CDO-ALLDAYEVENT:FALSE
SUMMARY:Ribbon Cutting
DESCRIPTION:Ribbon Cutting\n\n	Wednesday\, July 13\, 2011 @ 4pm\n\n	Identity Salon\n\n	225 East Main Street\, Grantsville
X-ALT-DESC;FMTTYPE=text/html:<p style="text-align: center">\n	<span style="font-size: 24px"><u><strong>Ribbon Cutting</strong></u><br />\n	Wednesday\, July 13\, 2011 @ 4pm<br />\n	Identity Salon<br />\n	225 East Main Street\, Grantsville </span></p>\n
LOCATION:
UID:e.125.3726
SEQUENCE:3
DTSTAMP:20260422T074107Z
URL:https://business.tooelechamber.com/events/details/ribbon-cutting-07-13-2011-3726
END:VEVENT

END:VCALENDAR
