BEGIN:VCALENDAR
VERSION:2.0
PRODID:-//ChamberMaster//Event Calendar 2.0//EN
METHOD:PUBLISH
X-PUBLISHED-TTL:P3D
REFRESH-INTERVAL:P3D
CALSCALE:GREGORIAN
BEGIN:VEVENT
DTSTART:20100726T180000Z
DTEND:20100726T190000Z
X-MICROSOFT-CDO-ALLDAYEVENT:FALSE
SUMMARY:Ribbon Cutting
DESCRIPTION:Ribbon Cutting Tooele Valley Imaging Monday\, July 26\, 2010 @ 12pm 2356 North 400 East #103\, Tooele Tooele Valley Imaging Center is proud to offer the state of the art imaging facility to the residents of Tooele County. They provide the highest standard in imaging services designed for the best patient care and comfort.
X-ALT-DESC;FMTTYPE=text/html:<div><div style="text-align: center"><u><strong><span style="font-size: large">Ribbon Cutting </span></strong></u></div><div style="text-align: center"><span style="font-size: large">Tooele Valley Imaging </span></div><div style="text-align: center"><span style="font-size: large">Monday\, July 26\, 2010 @ 12pm </span></div><div style="text-align: center"><span style="font-size: large">2356 North 400 East #103\, Tooele </span></div><div style="text-align: center"><span style="font-size: large">Tooele Valley Imaging Center is proud to offer the state of the art imaging facility to the residents of Tooele County. They provide the highest standard in imaging services designed for the best patient care and comfort. </span></div></div>
LOCATION:
UID:e.125.3216
SEQUENCE:3
DTSTAMP:20260423T032518Z
URL:https://business.tooelechamber.com/events/details/ribbon-cutting-07-26-2010-3216
END:VEVENT

END:VCALENDAR
