BEGIN:VCALENDAR
VERSION:2.0
PRODID:-//ChamberMaster//Event Calendar 2.0//EN
METHOD:PUBLISH
X-PUBLISHED-TTL:P3D
REFRESH-INTERVAL:P3D
CALSCALE:GREGORIAN
BEGIN:VEVENT
DTSTART:20090729T180000Z
DTEND:20090729T180000Z
X-MICROSOFT-CDO-ALLDAYEVENT:FALSE
SUMMARY:Ribbon Cutting
DESCRIPTION:Ribbon CuttingWednesday\, July 29th @ NoonMountainside Title71 East 1280 North\, TooeleCome on out and support our Chamber Member
X-ALT-DESC;FMTTYPE=text/html:<div style="text-align: center"><span style="font-size: large">Ribbon Cutting</span></div><div style="text-align: center"><span style="font-size: large">Wednesday\, July 29th @ Noon</span></div><div style="text-align: center"><span style="font-size: large">Mountainside Title</span></div><div style="text-align: center"><span style="font-size: large">71 East 1280 North\, Tooele</span></div><div style="text-align: center"><span style="font-size: large">Come on out and support </span></div><div style="text-align: center"><span style="font-size: large">our Chamber Member</span></div>
LOCATION:
UID:e.125.2543
SEQUENCE:3
DTSTAMP:20260423T212411Z
URL:https://business.tooelechamber.com/events/details/ribbon-cutting-07-29-2009-2543
END:VEVENT

END:VCALENDAR
