BEGIN:VCALENDAR
VERSION:2.0
PRODID:-//ChamberMaster//Event Calendar 2.0//EN
METHOD:PUBLISH
X-PUBLISHED-TTL:P3D
REFRESH-INTERVAL:P3D
CALSCALE:GREGORIAN
BEGIN:VEVENT
DTSTART:20130817T180000Z
DTEND:20130817T190000Z
X-MICROSOFT-CDO-ALLDAYEVENT:FALSE
SUMMARY:Ribbon Cutting
DESCRIPTION:The Pit Stop\n\n	Saturday\, August 17th\n\n	Starts at: 12:00pm noon\n\n	At the Pit Stop\n\n	2276 North 400 East\, Tooele\n\n	Click here to edit...
X-ALT-DESC;FMTTYPE=text/html:<div style="color: gray">\n	<span style="color: #0000cd"><u style="text-underline: single"><span style="font-weight: bold\; language: en-US"><span style="font-size: 32pt"><span style="font-family: lucida sans unicode">The Pit Stop</span></span></span></u></span><br />\n	<span style="language: en-US"><span style="font-size: 32pt"><span style="color: black"><span style="font-family: lucida sans unicode">Saturday\, </span></span></span></span><span style="language: en-US"><span style="font-size: 32pt"><span style="color: black"><span style="font-family: lucida sans unicode">August 17th</span></span></span></span><br />\n	<span style="language: en-US"><span style="font-size: 32pt"><span style="color: black"><span style="font-family: lucida sans unicode">Starts at: 12:00pm noon</span></span></span></span><br />\n	<span style="language: en-US"><span style="font-size: 32pt"><span style="color: black"><span style="font-family: lucida sans unicode">At the Pit Stop</span></span></span></span><br />\n	<span style="language: en-US"><span style="font-size: 32pt"><span style="color: black"><span style="font-family: lucida sans unicode">2276 North 400 East\, </span></span></span></span><span style="language: en-US"><span style="font-size: 32pt"><span style="color: black"><span style="font-family: lucida sans unicode">Tooele</span></span></span></span><br />\n	Click here to edit...</div>\n
LOCATION:
UID:e.125.5044
SEQUENCE:3
DTSTAMP:20260420T132220Z
URL:https://business.tooelechamber.com/events/details/ribbon-cutting-08-17-2013-5044
END:VEVENT

END:VCALENDAR
